Workbook

Sheet 選出基準調査
A1: 全日本スキー技術選手権大会選出基準についての調査
G3: 加盟団体 | I3: 連盟
H4: ↑県名を入力してください
A5: １．貴連盟に上記大会選出基準はありますか?
B7: 基準あり | D7: 基準なし
A9: ２．出場枠を記入してください。
B11: 男子 | D11: 名 | F11: 女子 | H11: 名
A14: ３．基準がある場合具体的に記述してください。
A19: 【参考：第64回大会参加枠】

Sheet 監督コーチ（様式11-2）
A1: 監督・コーチ届
B3: 加盟団体 | C3: =選出基準調査!H3 -> 0
B5: 氏 名 | C5: フ リ ガ ナ | D5: 性別 | E5: 連絡先（携帯番号） | F5: メールアドレス
A6: 監 督
A7: コ ー チ
A8: コ ー チ
A9: コ ー チ
F10: ※オンライン会議を開催する場合のメールアドレスの記載をお願いします。（会議出席者のみ）
B11: 宿 舎 名 | D11: 電話番号
A12: 宿 舎
A13: ※ 様式のセルを連結させるなど独自に改造しないで下さい。

Sheet 男子レギュラー　申込一覧（様式11-1）
A2: 西日本技術選手権大会（男子レギュラーの部） | E2: 加盟団体 | G2: =選出基準調査!H3 -> 0 | J2: =COUNTA(B6:B55) -> 0
B4: 氏 名 | C4: カ タ カ ナ | D4: 生 年 月 日 | J4: 年齢 | K4: 加盟団体 | L4: 所属団体 | M4: SAJ登録番号 | N4: 所持資格 | O4: 郵便番号 | P4: 住 所 | Q4: 電 話 番 号 | S4: 備考
Q5: 自 宅 | R5: 携 帯
A6: 1 | E6: 年 | G6: 月 | I6: 日 | K6: =IF(B6="","",$G$2)
A7: 2 | E7: 年 | G7: 月 | I7: 日 | K7: =IF(B7="","",$G$2)
A8: 3 | E8: 年 | G8: 月 | I8: 日 | K8: =IF(B8="","",$G$2)
A9: 4 | E9: 年 | G9: 月 | I9: 日 | K9: =IF(B9="","",$G$2)
A10: 5 | E10: 年 | G10: 月 | I10: 日 | K10: =IF(B10="","",$G$2)
A11: 6 | E11: 年 | G11: 月 | I11: 日 | K11: =IF(B11="","",$G$2)
A12: 7 | E12: 年 | G12: 月 | I12: 日 | K12: =IF(B12="","",$G$2)
A13: 8 | E13: 年 | G13: 月 | I13: 日 | K13: =IF(B13="","",$G$2)
A14: 9 | E14: 年 | G14: 月 | I14: 日 | K14: =IF(B14="","",$G$2)
A15: 10 | E15: 年 | G15: 月 | I15: 日 | K15: =IF(B15="","",$G$2)
A16: 11 | E16: 年 | G16: 月 | I16: 日 | K16: =IF(B16="","",$G$2)
A17: 12 | E17: 年 | G17: 月 | I17: 日 | K17: =IF(B17="","",$G$2)
... A55: 50 | E55: 年 | G55: 月 | I55: 日 | K55: =IF(B55="","",$G$2)

Sheet 女子レギュラー　申込一覧（様式11-1）
A2: 西日本技術選手権大会（女子レギュラーの部） | E2: 加盟団体 | G2: =選出基準調査!H3 -> 0 | J2: =COUNTA(B6:B55) -> 0
B4: 氏 名 | C4: カ タ カ ナ | D4: 生 年 月 日 | J4: 年齢 | K4: 加盟団体 | L4: 所属団体 | M4: SAJ登録番号 | N4: 所持資格 | O4: 郵便番号 | P4: 住 所 | Q4: 電 話 番 号 | S4: 備考
Q5: 自 宅 | R5: 携 帯
A6: 1 | E6: 年 | G6: 月 | I6: 日 | K6: =IF(B6="","",$G$2)
A7: 2 | E7: 年 | G7: 月 | I7: 日 | K7: =IF(B7="","",$G$2)
A8: 3 | E8: 年 | G8: 月 | I8: 日 | K8: =IF(B8="","",$G$2)
A9: 4 | E9: 年 | G9: 月 | I9: 日 | K9: =IF(B9="","",$G$2)
A10: 5 | E10: 年 | G10: 月 | I10: 日 | K10: =IF(B10="","",$G$2)
A11: 6 | E11: 年 | G11: 月 | I11: 日 | K11: =IF(B11="","",$G$2)
A12: 7 | E12: 年 | G12: 月 | I12: 日 | K12: =IF(B12="","",$G$2)
A13: 8 | E13: 年 | G13: 月 | I13: 日 | K13: =IF(B13="","",$G$2)
A14: 9 | E14: 年 | G14: 月 | I14: 日 | K14: =IF(B14="","",$G$2)
A15: 10 | E15: 年 | G15: 月 | I15: 日 | K15: =IF(B15="","",$G$2)
A16: 11 | E16: 年 | G16: 月 | I16: 日 | K16: =IF(B16="","",$G$2)
A17: 12 | E17: 年 | G17: 月 | I17: 日 | K17: =IF(B17="","",$G$2)
... A55: 50 | E55: 年 | G55: 月 | I55: 日 | K55: =IF(B55="","",$G$2)

Sheet ジュニア　申込一覧（様式11-1）
A2: 西日本技術選手権大会（ジュニアの部） | F2: 加盟団体 | H2: =選出基準調査!H3 -> 0 | K2: =COUNTA(B6:B55) -> 0
B4: 氏 名 | C4: カ タ カ ナ | D4: 性別 | E4: 生 年 月 日 | K4: 年齢 | L4: 加盟団体 | M4: 所属団体 | N4: SAJ登録番号 | O4: 所持資格 | P4: 郵便番号 | Q4: 住 所 | R4: 電 話 番 号 | T4: 備考
R5: 自 宅 | S5: 携 帯
A6: 1 | F6: 年 | H6: 月 | J6: 日 | L6: =IF(B6="","",$H$2)
A7: 2 | F7: 年 | H7: 月 | J7: 日 | L7: =IF(B7="","",$H$2)
A8: 3 | F8: 年 | H8: 月 | J8: 日 | L8: =IF(B8="","",$H$2)
A9: 4 | F9: 年 | H9: 月 | J9: 日 | L9: =IF(B9="","",$H$2)
A10: 5 | F10: 年 | H10: 月 | J10: 日 | L10: =IF(B10="","",$H$2)
A11: 6 | F11: 年 | H11: 月 | J11: 日 | L11: =IF(B11="","",$H$2)
A12: 7 | F12: 年 | H12: 月 | J12: 日 | L12: =IF(B12="","",$H$2)
A13: 8 | F13: 年 | H13: 月 | J13: 日 | L13: =IF(B13="","",$H$2)
A14: 9 | F14: 年 | H14: 月 | J14: 日 | L14: =IF(B14="","",$H$2)
A15: 10 | F15: 年 | H15: 月 | J15: 日 | L15: =IF(B15="","",$H$2)
A16: 11 | F16: 年 | H16: 月 | J16: 日 | L16: =IF(B16="","",$H$2)
A17: 12 | F17: 年 | H17: 月 | J17: 日 | L17: =IF(B17="","",$H$2)
... A55: 50 | F55: 年 | H55: 月 | J55: 日 | L55: =IF(B55="","",$H$2)

Sheet シニア　申込一覧（様式11-1）
A2: 西日本技術選手権大会（シニアの部） | F2: 加盟団体 | H2: =選出基準調査!H3 -> 0 | K2: =COUNTA(B6:B55) -> 0
B4: 氏 名 | C4: カ タ カ ナ | D4: 性別 | E4: 生 年 月 日 | K4: 年齢 | L4: 加盟団体 | M4: 所属団体 | N4: SAJ登録番号 | O4: 所持資格 | P4: 郵便番号 | Q4: 住 所 | R4: 電 話 番 号 | T4: 備考
R5: 自 宅 | S5: 携 帯
A6: 1 | F6: 年 | H6: 月 | J6: 日 | L6: =IF(B6="","",$H$2)
A7: 2 | F7: 年 | H7: 月 | J7: 日 | L7: =IF(B7="","",$H$2)
A8: 3 | F8: 年 | H8: 月 | J8: 日 | L8: =IF(B8="","",$H$2)
A9: 4 | F9: 年 | H9: 月 | J9: 日 | L9: =IF(B9="","",$H$2)
A10: 5 | F10: 年 | H10: 月 | J10: 日 | L10: =IF(B10="","",$H$2)
A11: 6 | F11: 年 | H11: 月 | J11: 日 | L11: =IF(B11="","",$H$2)
A12: 7 | F12: 年 | H12: 月 | J12: 日 | L12: =IF(B12="","",$H$2)
A13: 8 | F13: 年 | H13: 月 | J13: 日 | L13: =IF(B13="","",$H$2)
A14: 9 | F14: 年 | H14: 月 | J14: 日 | L14: =IF(B14="","",$H$2)
A15: 10 | F15: 年 | H15: 月 | J15: 日 | L15: =IF(B15="","",$H$2)
A16: 11 | F16: 年 | H16: 月 | J16: 日 | L16: =IF(B16="","",$H$2)
A17: 12 | F17: 年 | H17: 月 | J17: 日 | L17: =IF(B17="","",$H$2)
... A55: 50 | F55: 年 | H55: 月 | J55: 日 | L55: =IF(B55="","",$H$2)

Sheet 府県別人数（様式11-3）
A1: 西教様式11-3
B2: 自県分を記載ください
C3: 合計 | D3: 男 | E3: 女
B4: 鳥取
B5: 島根
B6: 岡山
B7: 広島
B8: 山口
B9: 香川
B10: 徳島
B11: 愛媛
B12: 高知
B13: 福岡
B14: 佐賀
B15: 長崎
... B19: 沖縄
